Package: SparseArray Version: 1.4.8 Command: /home/biocbuild/bbs-3.19-bioc/R/bin/R CMD build --keep-empty-dirs --no-resave-data SparseArray StartedAt: 2024-10-16 20:56:16 -0400 (Wed, 16 Oct 2024) EndedAt: 2024-10-16 20:56:50 -0400 (Wed, 16 Oct 2024) EllapsedTime: 34.1 seconds RetCode: 0 Status: OK PackageFile: SparseArray_1.4.8.tar.gz PackageFileSize: 382.9 KiB