Package: SparseArray Version: 1.4.8 Command: /Library/Frameworks/R.framework/Resources/bin/R CMD build --keep-empty-dirs --no-resave-data SparseArray StartedAt: 2024-06-09 18:16:32 -0400 (Sun, 09 Jun 2024) EndedAt: 2024-06-09 18:17:14 -0400 (Sun, 09 Jun 2024) EllapsedTime: 42.9 seconds RetCode: 0 Status: OK PackageFile: SparseArray_1.4.8.tar.gz PackageFileSize: 382.8 KiB