Package: SparseArray Version: 1.4.8 Command: rm -rf SparseArray.buildbin-libdir && mkdir SparseArray.buildbin-libdir && /Users/biocbuild/BBS/utils/build-universal.sh SparseArray_1.4.8.tar.gz /Library/Frameworks/R.framework/Resources/bin/R SparseArray.buildbin-libdir StartedAt: 2024-06-10 00:41:08 -0400 (Mon, 10 Jun 2024) EndedAt: 2024-06-10 00:41:52 -0400 (Mon, 10 Jun 2024) EllapsedTime: 44.0 seconds RetCode: 0 Status: OK PackageFile: SparseArray_1.4.8.tgz PackageFileSize: 1.772 MiB