Package: SparseArray Version: 1.4.3 Command: /home/biocbuild/R/R-beta-2024-04-15_r86425/bin/R CMD build --keep-empty-dirs --no-resave-data SparseArray StartedAt: 2024-05-09 03:45:24 -0000 (Thu, 09 May 2024) EndedAt: 2024-05-09 03:46:13 -0000 (Thu, 09 May 2024) EllapsedTime: 48.1 seconds RetCode: 0 Status: OK PackageFile: SparseArray_1.4.3.tar.gz PackageFileSize: 391.7 KiB