Package: SparseArray Version: 1.4.8 Command: /Library/Frameworks/R.framework/Resources/bin/R CMD INSTALL SparseArray StartedAt: 2024-06-09 15:09:44 -0400 (Sun, 09 Jun 2024) EndedAt: 2024-06-09 15:10:21 -0400 (Sun, 09 Jun 2024) EllapsedTime: 36.9 seconds RetCode: 0 Status: OK