Package: SparseArray Version: 1.4.8 Command: rm -rf SparseArray.buildbin-libdir && mkdir SparseArray.buildbin-libdir && /Users/biocbuild/BBS/utils/build-universal.sh SparseArray_1.4.8.tar.gz /Library/Frameworks/R.framework/Resources/bin/R SparseArray.buildbin-libdir StartedAt: 2024-10-15 20:24:59 -0400 (Tue, 15 Oct 2024) EndedAt: 2024-10-15 20:25:43 -0400 (Tue, 15 Oct 2024) EllapsedTime: 43.4 seconds RetCode: 0 Status: OK PackageFile: SparseArray_1.4.8.tgz PackageFileSize: 1.758 MiB