Package: Spaniel Version: 1.18.0 Command: rm -rf Spaniel.buildbin-libdir && mkdir Spaniel.buildbin-libdir && E:\biocbuild\bbs-3.19-bioc\R\bin\R.exe CMD INSTALL --build --library=Spaniel.buildbin-libdir Spaniel_1.18.0.tar.gz StartedAt: 2024-10-17 08:41:26 -0400 (Thu, 17 Oct 2024) EndedAt: 2024-10-17 08:42:25 -0400 (Thu, 17 Oct 2024) EllapsedTime: 58.6 seconds RetCode: 0 Status: OK PackageFile: Spaniel_1.18.0.zip PackageFileSize: 3.781 MiB