Package: Spaniel Version: 1.18.0 Command: /home/biocbuild/bbs-3.19-bioc/R/bin/R CMD INSTALL Spaniel StartedAt: 2024-10-16 16:39:35 -0400 (Wed, 16 Oct 2024) EndedAt: 2024-10-16 16:40:14 -0400 (Wed, 16 Oct 2024) EllapsedTime: 38.9 seconds RetCode: 0 Status: OK