Package: Spaniel Version: 1.18.0 Command: /home/biocbuild/bbs-3.19-bioc/R/bin/R CMD check --install=check:Spaniel.install-out.txt --library=/home/biocbuild/bbs-3.19-bioc/R/site-library --timings Spaniel_1.18.0.tar.gz StartedAt: 2024-10-17 05:20:31 -0400 (Thu, 17 Oct 2024) EndedAt: 2024-10-17 05:27:00 -0400 (Thu, 17 Oct 2024) EllapsedTime: 388.7 seconds RetCode: 0 Status: OK CheckDir: Spaniel.Rcheck Warnings: 0