Package: Spaniel Version: 1.18.0 Command: rm -rf Spaniel.buildbin-libdir && mkdir Spaniel.buildbin-libdir && /Users/biocbuild/BBS/utils/build-universal.sh Spaniel_1.18.0.tar.gz /Library/Frameworks/R.framework/Resources/bin/R Spaniel.buildbin-libdir StartedAt: 2024-10-17 17:15:24 -0400 (Thu, 17 Oct 2024) EndedAt: 2024-10-17 17:17:08 -0400 (Thu, 17 Oct 2024) EllapsedTime: 104.0 seconds RetCode: 0 Status: OK PackageFile: Spaniel_1.18.0.tgz PackageFileSize: 4.512 MiB