Package: Spaniel Version: 1.18.0 Command: /Library/Frameworks/R.framework/Resources/bin/R CMD check --install=check:Spaniel.install-out.txt --library=/Library/Frameworks/R.framework/Resources/library --no-vignettes --timings Spaniel_1.18.0.tar.gz StartedAt: 2024-10-18 13:06:29 -0400 (Fri, 18 Oct 2024) EndedAt: 2024-10-18 13:12:07 -0400 (Fri, 18 Oct 2024) EllapsedTime: 338.1 seconds RetCode: 0 Status: OK CheckDir: Spaniel.Rcheck Warnings: 0