Package: Spaniel Version: 1.18.0 Command: /Library/Frameworks/R.framework/Resources/bin/R CMD build --keep-empty-dirs --no-resave-data Spaniel StartedAt: 2024-10-17 09:42:40 -0400 (Thu, 17 Oct 2024) EndedAt: 2024-10-17 09:45:57 -0400 (Thu, 17 Oct 2024) EllapsedTime: 196.6 seconds RetCode: 0 Status: OK PackageFile: Spaniel_1.18.0.tar.gz PackageFileSize: 4.492 MiB