Package: SpacePAC Version: 1.42.0 Command: E:\biocbuild\bbs-3.19-bioc\R\bin\R.exe CMD INSTALL SpacePAC StartedAt: 2024-10-16 17:03:29 -0400 (Wed, 16 Oct 2024) EndedAt: 2024-10-16 17:03:49 -0400 (Wed, 16 Oct 2024) EllapsedTime: 20.2 seconds RetCode: 0 Status: OK