Package: SpacePAC Version: 1.42.0 Command: rm -rf SpacePAC.buildbin-libdir && mkdir SpacePAC.buildbin-libdir && F:\biocbuild\bbs-3.19-bioc\R\bin\R.exe CMD INSTALL --build --library=SpacePAC.buildbin-libdir SpacePAC_1.42.0.tar.gz StartedAt: 2024-06-27 08:57:48 -0400 (Thu, 27 Jun 2024) EndedAt: 2024-06-27 08:58:09 -0400 (Thu, 27 Jun 2024) EllapsedTime: 21.0 seconds RetCode: 0 Status: OK PackageFile: SpacePAC_1.42.0.zip PackageFileSize: 1018 KiB