Package: SpacePAC Version: 1.42.0 Command: /home/biocbuild/bbs-3.19-bioc/R/bin/R CMD build --keep-empty-dirs --no-resave-data SpacePAC StartedAt: 2024-10-16 20:55:53 -0400 (Wed, 16 Oct 2024) EndedAt: 2024-10-16 20:56:46 -0400 (Wed, 16 Oct 2024) EllapsedTime: 53.1 seconds RetCode: 0 Status: OK PackageFile: SpacePAC_1.42.0.tar.gz PackageFileSize: 1.695 MiB