Package: SpacePAC Version: 1.42.0 Command: rm -rf SpacePAC.buildbin-libdir && mkdir SpacePAC.buildbin-libdir && /Users/biocbuild/BBS/utils/build-universal.sh SpacePAC_1.42.0.tar.gz /Library/Frameworks/R.framework/Resources/bin/R SpacePAC.buildbin-libdir StartedAt: 2024-10-15 20:24:26 -0400 (Tue, 15 Oct 2024) EndedAt: 2024-10-15 20:24:48 -0400 (Tue, 15 Oct 2024) EllapsedTime: 22.2 seconds RetCode: 0 Status: OK PackageFile: SpacePAC_1.42.0.tgz PackageFileSize: 1.183 MiB