Package: SpaceMarkers Version: 1.0.0 Command: chmod a+r SpaceMarkers -R && E:\biocbuild\bbs-3.19-bioc\R\bin\R.exe CMD build --keep-empty-dirs --no-resave-data SpaceMarkers StartedAt: 2024-10-16 22:04:20 -0400 (Wed, 16 Oct 2024) EndedAt: 2024-10-16 22:07:54 -0400 (Wed, 16 Oct 2024) EllapsedTime: 214.1 seconds RetCode: 0 Status: OK PackageFile: SpaceMarkers_1.0.0.tar.gz PackageFileSize: 2.51 MiB