Package: SpaceMarkers Version: 1.0.0 Command: rm -rf SpaceMarkers.buildbin-libdir && mkdir SpaceMarkers.buildbin-libdir && E:\biocbuild\bbs-3.19-bioc\R\bin\R.exe CMD INSTALL --build --library=SpaceMarkers.buildbin-libdir SpaceMarkers_1.0.0.tar.gz StartedAt: 2024-10-17 08:41:12 -0400 (Thu, 17 Oct 2024) EndedAt: 2024-10-17 08:41:37 -0400 (Thu, 17 Oct 2024) EllapsedTime: 24.3 seconds RetCode: 0 Status: OK PackageFile: SpaceMarkers_1.0.0.zip PackageFileSize: 2.495 MiB