Package: SpaceMarkers Version: 1.0.0 Command: /home/biocbuild/bbs-3.19-bioc/R/bin/R CMD check --install=check:SpaceMarkers.install-out.txt --library=/home/biocbuild/bbs-3.19-bioc/R/site-library --timings SpaceMarkers_1.0.0.tar.gz StartedAt: 2024-10-17 05:19:59 -0400 (Thu, 17 Oct 2024) EndedAt: 2024-10-17 05:23:50 -0400 (Thu, 17 Oct 2024) EllapsedTime: 231.4 seconds RetCode: 0 Status: OK CheckDir: SpaceMarkers.Rcheck Warnings: 0