Package: SpaceMarkers Version: 1.0.0 Command: /home/biocbuild/bbs-3.19-bioc/R/bin/R CMD build --keep-empty-dirs --no-resave-data SpaceMarkers StartedAt: 2024-10-16 20:55:45 -0400 (Wed, 16 Oct 2024) EndedAt: 2024-10-16 20:57:33 -0400 (Wed, 16 Oct 2024) EllapsedTime: 108.2 seconds RetCode: 0 Status: OK PackageFile: SpaceMarkers_1.0.0.tar.gz PackageFileSize: 2.584 MiB