Package: SpaceMarkers Version: 1.0.0 Command: /Library/Frameworks/R.framework/Resources/bin/R CMD build --keep-empty-dirs --no-resave-data SpaceMarkers StartedAt: 2024-10-16 23:33:04 -0400 (Wed, 16 Oct 2024) EndedAt: 2024-10-16 23:37:08 -0400 (Wed, 16 Oct 2024) EllapsedTime: 244.6 seconds RetCode: 0 Status: OK PackageFile: SpaceMarkers_1.0.0.tar.gz PackageFileSize: 2.82 MiB