Package: SpaceMarkers Version: 1.0.0 Command: rm -rf SpaceMarkers.buildbin-libdir && mkdir SpaceMarkers.buildbin-libdir && /Users/biocbuild/BBS/utils/build-universal.sh SpaceMarkers_1.0.0.tar.gz /Library/Frameworks/R.framework/Resources/bin/R SpaceMarkers.buildbin-libdir StartedAt: 2024-10-17 17:15:18 -0400 (Thu, 17 Oct 2024) EndedAt: 2024-10-17 17:15:46 -0400 (Thu, 17 Oct 2024) EllapsedTime: 28.5 seconds RetCode: 0 Status: OK PackageFile: SpaceMarkers_1.0.0.tgz PackageFileSize: 2.801 MiB