Package: SpaceMarkers Version: 1.0.0 Command: /Library/Frameworks/R.framework/Resources/bin/R CMD build --keep-empty-dirs --no-resave-data SpaceMarkers StartedAt: 2024-06-10 05:11:05 -0400 (Mon, 10 Jun 2024) EndedAt: 2024-06-10 05:13:40 -0400 (Mon, 10 Jun 2024) EllapsedTime: 155.2 seconds RetCode: 0 Status: OK PackageFile: SpaceMarkers_1.0.0.tar.gz PackageFileSize: 2.818 MiB