Package: SpaceMarkers Version: 1.0.0 Command: /Library/Frameworks/R.framework/Resources/bin/R CMD build --keep-empty-dirs --no-resave-data SpaceMarkers StartedAt: 2024-10-17 09:40:49 -0400 (Thu, 17 Oct 2024) EndedAt: 2024-10-17 09:42:56 -0400 (Thu, 17 Oct 2024) EllapsedTime: 127.3 seconds RetCode: 0 Status: OK PackageFile: SpaceMarkers_1.0.0.tar.gz PackageFileSize: 2.823 MiB