Package: SomaticSignatures Version: 2.40.0 Maintainer: Julian Gehring MaintainerEmail: jg-bioc at gmx.com git_url: https://git.bioconductor.org/packages/SomaticSignatures git_branch: RELEASE_3_19 git_last_commit: c99d3e9 git_last_commit_date: 2024-04-30 10:34:57 -0400 (Tue, 30 Apr 2024)