Package: SingleMoleculeFootprinting Version: 1.12.0 Command: rm -rf SingleMoleculeFootprinting.buildbin-libdir && mkdir SingleMoleculeFootprinting.buildbin-libdir && /Users/biocbuild/BBS/utils/build-universal.sh SingleMoleculeFootprinting_1.12.0.tar.gz /Library/Frameworks/R.framework/Resources/bin/R SingleMoleculeFootprinting.buildbin-libdir StartedAt: 2024-06-10 00:40:35 -0400 (Mon, 10 Jun 2024) EndedAt: 2024-06-10 00:41:41 -0400 (Mon, 10 Jun 2024) EllapsedTime: 65.7 seconds RetCode: 0 Status: OK PackageFile: SingleMoleculeFootprinting_1.12.0.tgz PackageFileSize: 1.243 MiB