Package: SingleMoleculeFootprinting Version: 1.12.0 Command: /Library/Frameworks/R.framework/Resources/bin/R CMD INSTALL SingleMoleculeFootprinting StartedAt: 2024-06-09 16:11:20 -0400 (Sun, 09 Jun 2024) EndedAt: 2024-06-09 16:12:34 -0400 (Sun, 09 Jun 2024) EllapsedTime: 73.6 seconds RetCode: 0 Status: OK