Package: SingleMoleculeFootprinting Version: 1.12.0 Command: rm -rf SingleMoleculeFootprinting.buildbin-libdir && mkdir SingleMoleculeFootprinting.buildbin-libdir && /Users/biocbuild/BBS/utils/build-universal.sh SingleMoleculeFootprinting_1.12.0.tar.gz /Library/Frameworks/R.framework/Resources/bin/R SingleMoleculeFootprinting.buildbin-libdir StartedAt: 2024-06-11 13:17:40 -0400 (Tue, 11 Jun 2024) EndedAt: 2024-06-11 13:19:22 -0400 (Tue, 11 Jun 2024) EllapsedTime: 101.5 seconds RetCode: 0 Status: OK PackageFile: SingleMoleculeFootprinting_1.12.0.tgz PackageFileSize: 1.241 MiB