Package: SingleMoleculeFootprinting Version: 1.12.0 Command: rm -rf SingleMoleculeFootprinting.buildbin-libdir && mkdir SingleMoleculeFootprinting.buildbin-libdir && /Users/biocbuild/BBS/utils/build-universal.sh SingleMoleculeFootprinting_1.12.0.tar.gz /Library/Frameworks/R.framework/Resources/bin/R SingleMoleculeFootprinting.buildbin-libdir StartedAt: 2024-10-15 20:21:26 -0400 (Tue, 15 Oct 2024) EndedAt: 2024-10-15 20:22:37 -0400 (Tue, 15 Oct 2024) EllapsedTime: 71.3 seconds RetCode: 0 Status: OK PackageFile: SingleMoleculeFootprinting_1.12.0.tgz PackageFileSize: 1.244 MiB