Package: SingleCellSignalR Version: 1.16.0 Command: E:\biocbuild\bbs-3.19-bioc\R\bin\R.exe CMD INSTALL SingleCellSignalR StartedAt: 2024-10-16 17:13:01 -0400 (Wed, 16 Oct 2024) EndedAt: 2024-10-16 17:14:18 -0400 (Wed, 16 Oct 2024) EllapsedTime: 77.3 seconds RetCode: 0 Status: OK