Package: SingleCellSignalR Version: 1.16.0 Command: E:\biocbuild\bbs-3.19-bioc\R\bin\R.exe CMD check --no-multiarch --install=check:SingleCellSignalR.install-out.txt --library=E:\biocbuild\bbs-3.19-bioc\R\library --no-vignettes --timings SingleCellSignalR_1.16.0.tar.gz StartedAt: 2024-10-17 05:51:03 -0400 (Thu, 17 Oct 2024) EndedAt: 2024-10-17 05:55:18 -0400 (Thu, 17 Oct 2024) EllapsedTime: 254.4 seconds RetCode: 0 Status: WARNINGS CheckDir: SingleCellSignalR.Rcheck Warnings: 2