Package: SingleCellSignalR Version: 1.16.0 Command: rm -rf SingleCellSignalR.buildbin-libdir && mkdir SingleCellSignalR.buildbin-libdir && E:\biocbuild\bbs-3.19-bioc\R\bin\R.exe CMD INSTALL --build --library=SingleCellSignalR.buildbin-libdir SingleCellSignalR_1.16.0.tar.gz StartedAt: 2024-10-17 08:39:48 -0400 (Thu, 17 Oct 2024) EndedAt: 2024-10-17 08:40:41 -0400 (Thu, 17 Oct 2024) EllapsedTime: 52.6 seconds RetCode: 0 Status: OK PackageFile: SingleCellSignalR_1.16.0.zip PackageFileSize: 6.202 MiB