Package: SingleCellSignalR Version: 1.16.0 Command: chmod a+r SingleCellSignalR -R && F:\biocbuild\bbs-3.19-bioc\R\bin\R.exe CMD build --keep-empty-dirs --no-resave-data SingleCellSignalR StartedAt: 2024-06-26 22:00:15 -0400 (Wed, 26 Jun 2024) EndedAt: 2024-06-26 22:02:19 -0400 (Wed, 26 Jun 2024) EllapsedTime: 124.0 seconds RetCode: 0 Status: OK PackageFile: SingleCellSignalR_1.16.0.tar.gz PackageFileSize: 3.986 MiB