Package: SingleCellSignalR Version: 1.16.0 Command: /Library/Frameworks/R.framework/Resources/bin/R CMD check --install=check:SingleCellSignalR.install-out.txt --library=/Library/Frameworks/R.framework/Resources/library --no-vignettes --timings SingleCellSignalR_1.16.0.tar.gz StartedAt: 2024-10-17 13:18:46 -0400 (Thu, 17 Oct 2024) EndedAt: 2024-10-17 13:27:28 -0400 (Thu, 17 Oct 2024) EllapsedTime: 522.0 seconds RetCode: 0 Status: WARNINGS CheckDir: SingleCellSignalR.Rcheck Warnings: 2