Package: SingleCellSignalR Version: 1.16.0 Command: rm -rf SingleCellSignalR.buildbin-libdir && mkdir SingleCellSignalR.buildbin-libdir && /Users/biocbuild/BBS/utils/build-universal.sh SingleCellSignalR_1.16.0.tar.gz /Library/Frameworks/R.framework/Resources/bin/R SingleCellSignalR.buildbin-libdir StartedAt: 2024-10-15 20:21:20 -0400 (Tue, 15 Oct 2024) EndedAt: 2024-10-15 20:22:29 -0400 (Tue, 15 Oct 2024) EllapsedTime: 69.0 seconds RetCode: 0 Status: OK PackageFile: SingleCellSignalR_1.16.0.tgz PackageFileSize: 6.264 MiB