Package: SingleCellExperiment Version: 1.26.0 Command: /home/biocbuild/bbs-3.19-bioc/R/bin/R CMD INSTALL SingleCellExperiment StartedAt: 2024-10-16 15:57:15 -0400 (Wed, 16 Oct 2024) EndedAt: 2024-10-16 15:57:40 -0400 (Wed, 16 Oct 2024) EllapsedTime: 24.5 seconds RetCode: 0 Status: OK