Package: SingleCellExperiment Version: 1.26.0 Command: /Library/Frameworks/R.framework/Resources/bin/R CMD INSTALL SingleCellExperiment StartedAt: 2024-10-16 15:20:11 -0400 (Wed, 16 Oct 2024) EndedAt: 2024-10-16 15:21:10 -0400 (Wed, 16 Oct 2024) EllapsedTime: 59.0 seconds RetCode: 0 Status: OK