Package: SingleCellExperiment Version: 1.26.0 Command: /home/biocbuild/R/R-beta-2024-04-15_r86425/bin/R CMD build --keep-empty-dirs --no-resave-data SingleCellExperiment StartedAt: 2024-05-09 03:40:01 -0000 (Thu, 09 May 2024) EndedAt: 2024-05-09 03:41:34 -0000 (Thu, 09 May 2024) EllapsedTime: 93.1 seconds RetCode: 0 Status: OK PackageFile: SingleCellExperiment_1.26.0.tar.gz PackageFileSize: 1.131 MiB