Package: SingleCellExperiment Version: 1.26.0 Command: /Library/Frameworks/R.framework/Resources/bin/R CMD build --keep-empty-dirs --no-resave-data SingleCellExperiment StartedAt: 2024-06-10 04:57:54 -0400 (Mon, 10 Jun 2024) EndedAt: 2024-06-10 05:00:41 -0400 (Mon, 10 Jun 2024) EllapsedTime: 166.4 seconds RetCode: 0 Status: OK PackageFile: SingleCellExperiment_1.26.0.tar.gz PackageFileSize: 961.7 KiB