Package: SingleCellExperiment Version: 1.26.0 Command: rm -rf SingleCellExperiment.buildbin-libdir && mkdir SingleCellExperiment.buildbin-libdir && /Users/biocbuild/BBS/utils/build-universal.sh SingleCellExperiment_1.26.0.tar.gz /Library/Frameworks/R.framework/Resources/bin/R SingleCellExperiment.buildbin-libdir StartedAt: 2024-10-15 20:21:17 -0400 (Tue, 15 Oct 2024) EndedAt: 2024-10-15 20:21:55 -0400 (Tue, 15 Oct 2024) EllapsedTime: 38.5 seconds RetCode: 0 Status: OK PackageFile: SingleCellExperiment_1.26.0.tgz PackageFileSize: 1.868 MiB