Package: SingleCellAlleleExperiment Version: 1.0.0 Command: chmod a+r SingleCellAlleleExperiment -R && E:\biocbuild\bbs-3.19-bioc\R\bin\R.exe CMD build --keep-empty-dirs --no-resave-data SingleCellAlleleExperiment StartedAt: 2024-10-16 21:59:44 -0400 (Wed, 16 Oct 2024) EndedAt: 2024-10-16 22:00:51 -0400 (Wed, 16 Oct 2024) EllapsedTime: 67.0 seconds RetCode: 1 Status: ERROR PackageFile: None PackageFileSize: NA