Package: SingleCellAlleleExperiment Version: 1.0.0 Command: /home/biocbuild/bbs-3.19-bioc/R/bin/R CMD check --install=check:SingleCellAlleleExperiment.install-out.txt --library=/home/biocbuild/bbs-3.19-bioc/R/site-library --timings SingleCellAlleleExperiment_1.0.0.tar.gz StartedAt: 2024-08-22 04:31:13 -0400 (Thu, 22 Aug 2024) EndedAt: 2024-08-22 04:48:34 -0400 (Thu, 22 Aug 2024) EllapsedTime: 1041.0 seconds RetCode: 0 Status: OK CheckDir: SingleCellAlleleExperiment.Rcheck Warnings: 0