Package: SingleCellAlleleExperiment Version: 1.0.0 Command: /home/biocbuild/bbs-3.19-bioc/R/bin/R CMD build --keep-empty-dirs --no-resave-data SingleCellAlleleExperiment StartedAt: 2024-10-16 20:52:40 -0400 (Wed, 16 Oct 2024) EndedAt: 2024-10-16 20:54:19 -0400 (Wed, 16 Oct 2024) EllapsedTime: 99.2 seconds RetCode: 1 Status: ERROR PackageFile: None PackageFileSize: NA