Package: SingleCellAlleleExperiment Version: 1.0.0 Command: /Library/Frameworks/R.framework/Resources/bin/R CMD check --install=check:SingleCellAlleleExperiment.install-out.txt --library=/Library/Frameworks/R.framework/Resources/library --no-vignettes --timings SingleCellAlleleExperiment_1.0.0.tar.gz StartedAt: 2024-08-20 10:30:33 -0400 (Tue, 20 Aug 2024) EndedAt: 2024-08-20 10:43:36 -0400 (Tue, 20 Aug 2024) EllapsedTime: 782.1 seconds RetCode: 0 Status: OK CheckDir: SingleCellAlleleExperiment.Rcheck Warnings: 0