Package: SimFFPE Version: 1.16.0 Command: chmod a+r SimFFPE -R && E:\biocbuild\bbs-3.19-bioc\R\bin\R.exe CMD build --keep-empty-dirs --no-resave-data SimFFPE StartedAt: 2024-10-16 21:58:48 -0400 (Wed, 16 Oct 2024) EndedAt: 2024-10-16 22:01:04 -0400 (Wed, 16 Oct 2024) EllapsedTime: 136.3 seconds RetCode: 0 Status: OK PackageFile: SimFFPE_1.16.0.tar.gz PackageFileSize: 749.7 KiB