Package: SimFFPE Version: 1.16.0 Command: rm -rf SimFFPE.buildbin-libdir && mkdir SimFFPE.buildbin-libdir && E:\biocbuild\bbs-3.19-bioc\R\bin\R.exe CMD INSTALL --build --library=SimFFPE.buildbin-libdir SimFFPE_1.16.0.tar.gz StartedAt: 2024-10-17 08:39:28 -0400 (Thu, 17 Oct 2024) EndedAt: 2024-10-17 08:39:52 -0400 (Thu, 17 Oct 2024) EllapsedTime: 24.0 seconds RetCode: 0 Status: OK PackageFile: SimFFPE_1.16.0.zip PackageFileSize: 801.7 KiB