Package: SimFFPE Version: 1.16.0 Command: rm -rf SimFFPE.buildbin-libdir && mkdir SimFFPE.buildbin-libdir && F:\biocbuild\bbs-3.19-bioc\R\bin\R.exe CMD INSTALL --build --library=SimFFPE.buildbin-libdir SimFFPE_1.16.0.tar.gz StartedAt: 2024-06-27 08:56:08 -0400 (Thu, 27 Jun 2024) EndedAt: 2024-06-27 08:56:40 -0400 (Thu, 27 Jun 2024) EllapsedTime: 32.4 seconds RetCode: 0 Status: OK PackageFile: SimFFPE_1.16.0.zip PackageFileSize: 801.5 KiB