Package: SimFFPE Version: 1.16.0 Command: /Library/Frameworks/R.framework/Resources/bin/R CMD build --keep-empty-dirs --no-resave-data SimFFPE StartedAt: 2024-10-16 23:22:38 -0400 (Wed, 16 Oct 2024) EndedAt: 2024-10-16 23:28:05 -0400 (Wed, 16 Oct 2024) EllapsedTime: 326.4 seconds RetCode: 0 Status: OK PackageFile: SimFFPE_1.16.0.tar.gz PackageFileSize: 750.1 KiB