Package: SimFFPE Version: 1.16.0 Command: rm -rf SimFFPE.buildbin-libdir && mkdir SimFFPE.buildbin-libdir && /Users/biocbuild/BBS/utils/build-universal.sh SimFFPE_1.16.0.tar.gz /Library/Frameworks/R.framework/Resources/bin/R SimFFPE.buildbin-libdir StartedAt: 2024-06-10 00:40:23 -0400 (Mon, 10 Jun 2024) EndedAt: 2024-06-10 00:40:46 -0400 (Mon, 10 Jun 2024) EllapsedTime: 22.9 seconds RetCode: 0 Status: OK PackageFile: SimFFPE_1.16.0.tgz PackageFileSize: 807.3 KiB