Package: SimFFPE Version: 1.16.0 Command: /home/biocbuild/R/R-beta-2024-04-15_r86425/bin/R CMD build --keep-empty-dirs --no-resave-data SimFFPE StartedAt: 2024-05-09 03:38:12 -0000 (Thu, 09 May 2024) EndedAt: 2024-05-09 03:40:28 -0000 (Thu, 09 May 2024) EllapsedTime: 136.2 seconds RetCode: 0 Status: OK PackageFile: SimFFPE_1.16.0.tar.gz PackageFileSize: 741.9 KiB